BEGIN:VCALENDAR
VERSION:2.0
PRODID:-//Area 59 District 47 A.A. - ECPv6.15.20//NONSGML v1.0//EN
CALSCALE:GREGORIAN
METHOD:PUBLISH
X-WR-CALNAME:Area 59 District 47 A.A.
X-ORIGINAL-URL:https://aad47.org
X-WR-CALDESC:Events for Area 59 District 47 A.A.
REFRESH-INTERVAL;VALUE=DURATION:PT1H
X-Robots-Tag:noindex
X-PUBLISHED-TTL:PT1H
BEGIN:VTIMEZONE
TZID:America/New_York
BEGIN:DAYLIGHT
TZOFFSETFROM:-0500
TZOFFSETTO:-0400
TZNAME:EDT
DTSTART:20240310T070000
END:DAYLIGHT
BEGIN:STANDARD
TZOFFSETFROM:-0400
TZOFFSETTO:-0500
TZNAME:EST
DTSTART:20241103T060000
END:STANDARD
BEGIN:DAYLIGHT
TZOFFSETFROM:-0500
TZOFFSETTO:-0400
TZNAME:EDT
DTSTART:20250309T070000
END:DAYLIGHT
BEGIN:STANDARD
TZOFFSETFROM:-0400
TZOFFSETTO:-0500
TZNAME:EST
DTSTART:20251102T060000
END:STANDARD
BEGIN:DAYLIGHT
TZOFFSETFROM:-0500
TZOFFSETTO:-0400
TZNAME:EDT
DTSTART:20260308T070000
END:DAYLIGHT
BEGIN:STANDARD
TZOFFSETFROM:-0400
TZOFFSETTO:-0500
TZNAME:EST
DTSTART:20261101T060000
END:STANDARD
END:VTIMEZONE
BEGIN:VEVENT
DTSTART;TZID=America/New_York:20250914T090000
DTEND;TZID=America/New_York:20250914T160000
DTSTAMP:20260424T041700
CREATED:20250902T013105Z
LAST-MODIFIED:20250902T013106Z
UID:2623-1757840400-1757865600@aad47.org
SUMMARY:Area 59 Quarterly Area Meeting 9-25
DESCRIPTION:Save the date for Area 59 4th Quarterly Meeting of Panel 75This is an opportunity for our District members to see the workings of our Area 59 Panel 75 and to meet the members involved in Eastern Pa. It will be held at the Bensalem Senior Citizens Associates very close by. Lunch will be provided.Doors open 8 AM\, meeting starts at 11 AM.
URL:https://aad47.org/event/area-59-quarterly-area-meeting-9-25
LOCATION:Bensalem Senior Citizens Associates\,\, 1850 Byberry Rd\, Bensalem\, Pennsylvania\, 19020
ATTACH;FMTTYPE=image/jpeg:https://aad47.org/d47-content/uploads/Area-59-Quarterly-2.jpg
END:VEVENT
END:VCALENDAR