BEGIN:VCALENDAR
VERSION:2.0
PRODID:-//Area 59 District 47 A.A. - ECPv6.15.20//NONSGML v1.0//EN
CALSCALE:GREGORIAN
METHOD:PUBLISH
X-WR-CALNAME:Area 59 District 47 A.A.
X-ORIGINAL-URL:https://aad47.org
X-WR-CALDESC:Events for Area 59 District 47 A.A.
REFRESH-INTERVAL;VALUE=DURATION:PT1H
X-Robots-Tag:noindex
X-PUBLISHED-TTL:PT1H
BEGIN:VTIMEZONE
TZID:America/New_York
BEGIN:DAYLIGHT
TZOFFSETFROM:-0500
TZOFFSETTO:-0400
TZNAME:EDT
DTSTART:20240310T070000
END:DAYLIGHT
BEGIN:STANDARD
TZOFFSETFROM:-0400
TZOFFSETTO:-0500
TZNAME:EST
DTSTART:20241103T060000
END:STANDARD
BEGIN:DAYLIGHT
TZOFFSETFROM:-0500
TZOFFSETTO:-0400
TZNAME:EDT
DTSTART:20250309T070000
END:DAYLIGHT
BEGIN:STANDARD
TZOFFSETFROM:-0400
TZOFFSETTO:-0500
TZNAME:EST
DTSTART:20251102T060000
END:STANDARD
BEGIN:DAYLIGHT
TZOFFSETFROM:-0500
TZOFFSETTO:-0400
TZNAME:EDT
DTSTART:20260308T070000
END:DAYLIGHT
BEGIN:STANDARD
TZOFFSETFROM:-0400
TZOFFSETTO:-0500
TZNAME:EST
DTSTART:20261101T060000
END:STANDARD
END:VTIMEZONE
BEGIN:VEVENT
DTSTART;TZID=America/New_York:20251114T130000
DTEND;TZID=America/New_York:20251116T120000
DTSTAMP:20260421T065549
CREATED:20250910T020152Z
LAST-MODIFIED:20251031T163539Z
UID:2669-1763125200-1763294400@aad47.org
SUMMARY:68th General Service Convention and Assembly EPGSA
DESCRIPTION:The EPGSA Assembly Convention is held annually in the fall of the year. A full program of A.A. topics and speakers is being planned that will be of interest all A.A.s. \n\n\n\nThis Years Event Program\n\n\n\nRegistration is open for the event until November 7th\, There is a nominal registration fee of $20 to maintain self-support. Convention hotel/meals packages are also available. \n\n\n\nOnline Registration Form \n\n\n\nOnline Hotel Reservations \n\n\n\nOnline Volunteer Form \n\n\n\nOnline Hospitality Suite Contribution \n\n\n\nMail in Registration (PDF) \n\n\n\nConvention Volunteer Flyer – EN (PDF)
URL:https://aad47.org/event/68th-epgsa
LOCATION:Wyndham Lancaster Resort and Convention Center\, 2300 Lincoln Highway East\, Lancaster\, Pennsylvania\, 17602
ATTACH;FMTTYPE=image/jpeg:https://aad47.org/d47-content/uploads/68th-EPGSA.jpg
END:VEVENT
BEGIN:VEVENT
DTSTART;TZID=America/New_York:20251114T190000
DTEND;TZID=America/New_York:20251114T210000
DTSTAMP:20260421T065549
CREATED:20251101T150113Z
LAST-MODIFIED:20251101T150113Z
UID:2744-1763146800-1763154000@aad47.org
SUMMARY:Doylestown Group 75th Anniversary
DESCRIPTION:Food & Fellowship 7:00 PMBring a covered dish\, appetizer\, dessert or beverage to share!Speaker’s Meeting Starts at 8:00!THREE SPEAKERS1st with a few months2nd with a few years3rd with a few decades \n\n\n\n50/50 Benefits the Annual Memorial Day Picnic
URL:https://aad47.org/event/doylestown-75th-anniversary
LOCATION:Andrews Hall\, 125 Mechanics St\, Doylestown\, Pennsylvania\, 18901
ATTACH;FMTTYPE=image/jpeg:https://aad47.org/d47-content/uploads/Doylestown-75th-Featured.jpg
END:VEVENT
END:VCALENDAR