BEGIN:VCALENDAR
VERSION:2.0
PRODID:-//Area 59 District 47 A.A. - ECPv6.15.20//NONSGML v1.0//EN
CALSCALE:GREGORIAN
METHOD:PUBLISH
X-WR-CALNAME:Area 59 District 47 A.A.
X-ORIGINAL-URL:https://aad47.org
X-WR-CALDESC:Events for Area 59 District 47 A.A.
REFRESH-INTERVAL;VALUE=DURATION:PT1H
X-Robots-Tag:noindex
X-PUBLISHED-TTL:PT1H
BEGIN:VTIMEZONE
TZID:America/New_York
BEGIN:DAYLIGHT
TZOFFSETFROM:-0500
TZOFFSETTO:-0400
TZNAME:EDT
DTSTART:20240310T070000
END:DAYLIGHT
BEGIN:STANDARD
TZOFFSETFROM:-0400
TZOFFSETTO:-0500
TZNAME:EST
DTSTART:20241103T060000
END:STANDARD
BEGIN:DAYLIGHT
TZOFFSETFROM:-0500
TZOFFSETTO:-0400
TZNAME:EDT
DTSTART:20250309T070000
END:DAYLIGHT
BEGIN:STANDARD
TZOFFSETFROM:-0400
TZOFFSETTO:-0500
TZNAME:EST
DTSTART:20251102T060000
END:STANDARD
BEGIN:DAYLIGHT
TZOFFSETFROM:-0500
TZOFFSETTO:-0400
TZNAME:EDT
DTSTART:20260308T070000
END:DAYLIGHT
BEGIN:STANDARD
TZOFFSETFROM:-0400
TZOFFSETTO:-0500
TZNAME:EST
DTSTART:20261101T060000
END:STANDARD
END:VTIMEZONE
BEGIN:VEVENT
DTSTART;TZID=America/New_York:20251003T120000
DTEND;TZID=America/New_York:20251005T150000
DTSTAMP:20260420T061412
CREATED:20250903T112132Z
LAST-MODIFIED:20250908T022043Z
UID:2613-1759492800-1759676400@aad47.org
SUMMARY:BUCKYPAA 7th Annual Camping Trip
DESCRIPTION:Come camping with Buckypaa and Liberty-Bid for EASCYPAA as they co-host Buckypaa’s Annual Campout! Lots of fellowship and activities. Daily meetings and speakers each night! If you are new in sobriety\, young at heart and or have room to grow\, this event is for you!  Pre-register to save! $40/weekend $20/Day (Prices go up after Midnight\, September 27th) food included in camp fee. Children under 5 are free. Camp-out happens rain or shine~NO REFUNDS
URL:https://aad47.org/event/buckypaa-7th-annual-camping-trip
LOCATION:Lake Towhee Park\, 800 Old Bethlehem Road\, Quakertown\, Pennsylvania\, 18951\, United States
ATTACH;FMTTYPE=image/jpeg:https://aad47.org/d47-content/uploads/Buckypaa-Camp-VII.jpg
END:VEVENT
BEGIN:VEVENT
DTSTART;TZID=America/New_York:20251011T113000
DTEND;TZID=America/New_York:20251011T150000
DTSTAMP:20260420T061412
CREATED:20250806T193821Z
LAST-MODIFIED:20250806T193822Z
UID:2585-1760182200-1760194800@aad47.org
SUMMARY:The Importance of the Home Group
DESCRIPTION:Come celebrate the Home Group (the top of the AA Triangle) with food and fellowship at a fun workshop event!All are welcome!Bring your Home Group’s favorite dessert for bragging rights. A group prize for best desert will be awarded!
URL:https://aad47.org/event/workshop-10-25
LOCATION:St. Andrew’s Evangelical Lutheran Church\, 20 Dill Ave\, Perkasie\, Pennsylvania\, 18944
ATTACH;FMTTYPE=image/jpeg:https://aad47.org/d47-content/uploads/D47-workshop-10-25.jpg
END:VEVENT
BEGIN:VEVENT
DTSTART;TZID=America/New_York:20251019T180000
DTEND;TZID=America/New_York:20251019T203000
DTSTAMP:20260420T061412
CREATED:20250918T094824Z
LAST-MODIFIED:20251008T180057Z
UID:2673-1760896800-1760905800@aad47.org
SUMMARY:Riegelsville Surprise Group hosts an Autumn Fellowship Celebration
DESCRIPTION:Rescheduled from Oct 5th. In lieu of the usual Sunday night meeting\, join the Riegelsville Surprise Group for a speaker and fellowship celebration. AA and Al-Anon speaker meeting at 7:30 pm. Covered dish is most welcome. Coffee and tea and cutlery provided.
URL:https://aad47.org/event/riegelsville-surprise-group-hosts-an-autumn-fellowship-celebration
LOCATION:St. Peter’s Church\, 305 Delaware road\, Riegelsville\, Pennsylvania\, 18077\, United States
ATTACH;FMTTYPE=image/jpeg:https://aad47.org/d47-content/uploads/Riegelsville-Fall-Celebrati.jpg
END:VEVENT
BEGIN:VEVENT
DTSTART;TZID=America/New_York:20251023T190000
DTEND;TZID=America/New_York:20251023T213000
DTSTAMP:20260420T061412
CREATED:20250908T015834Z
LAST-MODIFIED:20250914T122918Z
UID:2653-1761246000-1761255000@aad47.org
SUMMARY:Last Chance 34th Anniversary
DESCRIPTION:Food Fun Fellowship 7 pmGuest Speaker 8 pm
URL:https://aad47.org/event/last-chance-34th-anniversary
LOCATION:St Luke’s United Church\, 141 S. Main St\, Dublin\, Pennsylvania\, 18917
ATTACH;FMTTYPE=image/jpeg:https://aad47.org/d47-content/uploads/34th-Anniversar-Last-Chance.jpg
END:VEVENT
BEGIN:VEVENT
DTSTART;TZID=America/New_York:20251025T180000
DTEND;TZID=America/New_York:20251025T230000
DTSTAMP:20260420T061412
CREATED:20250915T012813Z
LAST-MODIFIED:20250915T185834Z
UID:2680-1761415200-1761433200@aad47.org
SUMMARY:Halloween Costume Party and Dance
DESCRIPTION:Food Fun and Fellowship from 6-7PM. Speaker and Sharing 7-8PM. Dancing and More 8-11PM. Bring a side dish or treat for sharing. $10.00 at the door.  \n\n\n\nOptional Non-denominational “Burning of your Resentments” service.6-7PM
URL:https://aad47.org/event/halloween-party-and-dance-25
LOCATION:St. Andrew’s Evangelical Lutheran Church\, 20 Dill Ave\, Perkasie\, Pennsylvania\, 18944
ATTACH;FMTTYPE=image/jpeg:https://aad47.org/d47-content/uploads/Halloween-2025.jpg
END:VEVENT
BEGIN:VEVENT
DTSTART;TZID=America/New_York:20251025T183000
DTEND;TZID=America/New_York:20251025T210000
DTSTAMP:20260420T061412
CREATED:20251012T015307Z
LAST-MODIFIED:20251012T015308Z
UID:2716-1761417000-1761426000@aad47.org
SUMMARY:Hilltown 39th Anniversary Dinner
DESCRIPTION:Join us as we celebrate our 39th year of fellowship and recovery with a sit down dinner service at 6:30 pm followed by a guest speaker 8 pm. \n\n\n\nGreat food and deserts served to us in the fellowship hall followed by a speaker meeting in the parish lounge.
URL:https://aad47.org/event/hilltown-39th-anniversary-dinner
LOCATION:St Peter’s Reformed Church\, 1006 Hilltown Pike\, Hilltown Township\, Pennsylvania\, 18927
ATTACH;FMTTYPE=image/jpeg:https://aad47.org/d47-content/uploads/39th-featured.jpg
END:VEVENT
END:VCALENDAR